BEGIN:VCALENDAR
VERSION:2.0
PRODID:-//Parkstone Club - ECPv6.15.20//NONSGML v1.0//EN
CALSCALE:GREGORIAN
METHOD:PUBLISH
X-ORIGINAL-URL:https://parkstoneclub.co.uk
X-WR-CALDESC:Events for Parkstone Club
REFRESH-INTERVAL;VALUE=DURATION:PT1H
X-Robots-Tag:noindex
X-PUBLISHED-TTL:PT1H
BEGIN:VTIMEZONE
TZID:UTC
BEGIN:STANDARD
TZOFFSETFROM:+0000
TZOFFSETTO:+0000
TZNAME:UTC
DTSTART:20250101T000000
END:STANDARD
END:VTIMEZONE
BEGIN:VEVENT
DTSTART;TZID=UTC:20260712T143000
DTEND;TZID=UTC:20260712T220000
DTSTAMP:20260420T171309
CREATED:20260420T115953Z
LAST-MODIFIED:20260420T132240Z
UID:1330-1783866600-1783893600@parkstoneclub.co.uk
SUMMARY:Monthly Poker Tournament
DESCRIPTION:Full Details\, Rules and Online Entry available here.
URL:https://parkstoneclub.co.uk/event/july-12th-2026-poker-tournament/
LOCATION:Parkstone Club\, 19 Parr Street\, Ashley Cross\, POOLE\, BH14 0JX\, United Kingdom
CATEGORIES:Poker Tournament
ATTACH;FMTTYPE=image/png:https://parkstoneclub.co.uk/wp-content/uploads/2026/04/Monthly-Poker-Tournament-1-Rounders-Night-24-03-23.png
END:VEVENT
BEGIN:VEVENT
DTSTART;TZID=UTC:20260809T143000
DTEND;TZID=UTC:20260809T220000
DTSTAMP:20260420T171309
CREATED:20260420T125830Z
LAST-MODIFIED:20260420T132319Z
UID:1340-1786285800-1786312800@parkstoneclub.co.uk
SUMMARY:Monthly Poker Tournament
DESCRIPTION:Full Details\, Rules and Online Entry available here.
URL:https://parkstoneclub.co.uk/event/monthly-poker-tournament/
LOCATION:Parkstone Club\, 19 Parr Street\, Ashley Cross\, POOLE\, BH14 0JX\, United Kingdom
CATEGORIES:Poker Tournament
ATTACH;FMTTYPE=image/png:https://parkstoneclub.co.uk/wp-content/uploads/2026/04/Monthly-Poker-Tournament-9th-August-1-Rounders-Night-24-03-23.png
END:VEVENT
END:VCALENDAR